BEGIN:VCALENDAR
VERSION:2.0
X-WR-CALNAME:www.indybay.org
PRODID:-//indybay/ical// v1.0//EN
BEGIN:VEVENT
UID:Indybay-18585519
SEQUENCE:18631813
CREATED:20090403T020000Z
DESCRIPTION:Urban Solutions presents 'Green Financing for Green Businesses,' a 
 free-of-charge workshop on the availability of capital for green projects. 
 \n\nFee: $0.\n\nAdults Only Event\n 
 https://www.indybay.org/newsitems/2009/04/02/18585519.php
SUMMARY:Free Workshop: Green Financing for Green Business
LOCATION:1083 Mission Street, 2nd Floor, San Francisco, CA 94103
URL:https://www.indybay.org/newsitems/2009/04/02/18585519.php
DTSTART:20090408T003000Z
DTEND:20090408T023000Z
END:VEVENT
END:VCALENDAR
