BEGIN:VCALENDAR
VERSION:2.0
X-WR-CALNAME:www.indybay.org
PRODID:-//indybay/ical// v1.0//EN
BEGIN:VEVENT
UID:Indybay-18585284
SEQUENCE:18631515
CREATED:20090402T012700Z
DESCRIPTION:The seventh of an 11 day Reel Work Film Festival in Santa Cruz. \nWinter 
 Soldier ( Producer: Vietnam Vets Against the War, 1972, 96 min) Soldiers 
 who served in Vietnam testify in Detroit about their war 
 experiences.\nWinter Soldier: Iraq and Afghanistan (Producer: Iraq Vets 
 Against the War, 2008, 65 min.)\nEyewitness Accounts of the Occupations 
 from Washington, DC hearings.\nSpeaker and discussion. \nThe events are 
 free and a small donation is requested. No one turned away for lack of 
 funds. \n https://www.indybay.org/newsitems/2009/04/01/18585284.php
SUMMARY:Reel Work Film Festival -Winter Soldier Vietnam/ Winter Soldier Iraq
LOCATION:Veterans Memorial Hall, Front St., Santa Cruz\n
URL:https://www.indybay.org/newsitems/2009/04/01/18585284.php
DTSTART:20090430T020000Z
DTEND:20090430T040000Z
END:VEVENT
END:VCALENDAR
