BEGIN:VCALENDAR
VERSION:2.0
X-WR-CALNAME:www.indybay.org
PRODID:-//indybay/ical// v1.0//EN
BEGIN:VEVENT
UID:Indybay-18585073
SEQUENCE:18631236
CREATED:20090401T030100Z
DESCRIPTION:A march in honor of Cesar Chavez will be held at Holmes Playground.  After 
 the march there will a multi-culture event starting at 12 Noon taking place 
 at Holmes Playground.  For more details email Xicana1978@aol.com .\n\nThe 
 Co-ce-cha committee is also planing a community outreach fair. The fair 
 will start after the march (12pm till 3pm).  We are searching for 
 organizations and grass root orgs that provide services to our community. 
 Tables will be provided. If you know of any organizations or community 
 services that would like to attend, they should email liset10@hotmail.com 
 or call 559.801.5217\n\n 
 https://www.indybay.org/newsitems/2009/03/31/18585073.php
SUMMARY:A march in honor of Cesar Chavez
LOCATION:Holmes Playground in Fresno
URL:https://www.indybay.org/newsitems/2009/03/31/18585073.php
DTSTART:20090404T160000Z
DTEND:20090404T190000Z
END:VEVENT
END:VCALENDAR
