BEGIN:VCALENDAR
VERSION:2.0
X-WR-CALNAME:www.indybay.org
PRODID:-//indybay/ical// v1.0//EN
BEGIN:VEVENT
UID:Indybay-18584915
SEQUENCE:18631018
CREATED:20090331T071400Z
DESCRIPTION:In this two-hour FREE Mind-Body Wellness Program you'll learn how to:\n\n* 
 use your breath to instantly make your mind calm\n* control negative 
 emotions\n* create a sense of well-being\n* infuse your body with prana\n* 
 detoxify through the breath\n* increase energy and vitality \n\nYou'll also 
 learn Principles of Healthy Living, Effortless Meditation, and how to chart 
 a new course for your life! \n 
 https://www.indybay.org/newsitems/2009/03/31/18584915.php
SUMMARY:Free: Yoga/Meditation (Mind Body Wellness Workshop) Campbell
LOCATION:Ariel Dance Studio\n2385 Winchester Blvd\nCampbell, CA 95008
URL:https://www.indybay.org/newsitems/2009/03/31/18584915.php
DTSTART:20090418T220000Z
DTEND:20090419T000000Z
END:VEVENT
END:VCALENDAR
