BEGIN:VCALENDAR
VERSION:2.0
X-WR-CALNAME:www.indybay.org
PRODID:-//indybay/ical// v1.0//EN
BEGIN:VEVENT
UID:Indybay-18583874
SEQUENCE:18629778
CREATED:20090328T025000Z
DESCRIPTION:Instructor: K.Ruby\n\nCost:$30-50 plus $10 supply fee to be paid on day of 
 class\n\nLearn the most simple canning techniques for acid fruits and 
 tomatoes. We will can seasonal organic ingredients in a failproof method 
 that will knock yer socks off it is so easy and quick. Plus you will take 
 home a jar or two of the goodies we make. Canning is not only just for fun, 
 it can help you preserve an overflow of fruit or tomatoes from your urban 
 garden, take care of your christmas giving and help you enjoy the bounty of 
 summer in January.\n\nClasses are held at The Institute of Urban 
 Homesteading, Oakland CA\n\nCall to register & get 
 directions.\n(510)927-3252\n\n\n\nhttp://sparkybeegirl.com/iuh.html\n 
 https://www.indybay.org/newsitems/2009/03/27/18583874.php
SUMMARY:Canning Made Easy: Tomatoes & Tomato Sauces
LOCATION:Oakland\nPlease call for directions\n(510)927-3252
URL:https://www.indybay.org/newsitems/2009/03/27/18583874.php
DTSTART:20090805T020000Z
DTEND:20090805T050000Z
END:VEVENT
END:VCALENDAR
