BEGIN:VCALENDAR
VERSION:2.0
X-WR-CALNAME:www.indybay.org
PRODID:-//indybay/ical// v1.0//EN
BEGIN:VEVENT
UID:Indybay-18583504
SEQUENCE:18629353
CREATED:20090327T082100Z
DESCRIPTION:A class/discussion group for people who already speak a bit of Spanish 
 centered around Latin American politics with the goal of increasing 
 confidence and vocabulary. \n\n 
 https://www.indybay.org/newsitems/2009/03/27/18583504.php
SUMMARY:East Bay Free Skool Class: Intermediate Spanish
LOCATION:Dome beind 3088/3099 King st., Berkeley 
URL:https://www.indybay.org/newsitems/2009/03/27/18583504.php
DTSTART:20090427T210000Z
DTEND:20090427T223000Z
END:VEVENT
END:VCALENDAR
