BEGIN:VCALENDAR
VERSION:2.0
X-WR-CALNAME:www.indybay.org
PRODID:-//indybay/ical// v1.0//EN
BEGIN:VEVENT
UID:Indybay-18583098
SEQUENCE:18628904
CREATED:20090326T214500Z
DESCRIPTION:Our annual international affairs conference is back! Come listen to GREAT 
 SPEAKERS including co-chairs The honorable George P. Shultz, 60th US 
 Secretary of State and The Honorable William J. Perry, 19th US Secretary of 
 Defense and debate CRITICAL ISSUES all while enjoying an exceptional 
 community. As Barack Obama begins his term as president, the economic, 
 military and political challenges for the new administration and for each 
 of us as citizens are enormous. Join us as we gather with global leaders to 
 discuss and debate the key global issues at this historical moment. 
 \n\nThursday, April 2, 6:00 PM - 9:00 PM; Friday, April 3, 8:00 AM - 5:00 
 PM\n\nCouncil Members: $275; Nonmembers: $425\n\n*Note: You may also 
 sponsor a student or teacher. \n \nFor more information and to register, 
 visit the Council's website, call 415-293-4600, or email info@wacsf.org.\n 
 https://www.indybay.org/newsitems/2009/03/26/18583098.php
SUMMARY:World Affairs Council Presents 2009 International Affairs Conference
LOCATION:The Westin St. Francis Hotel\n335 Powell Street, Union Square\nSan 
 Francisco, CA 94108\n*Note: Registration Code at hotel: WAD01A
URL:https://www.indybay.org/newsitems/2009/03/26/18583098.php
DTSTART:20090403T010000Z
DTEND:20090403T010000Z
END:VEVENT
END:VCALENDAR
