BEGIN:VCALENDAR
VERSION:2.0
X-WR-CALNAME:www.indybay.org
PRODID:-//indybay/ical// v1.0//EN
BEGIN:VEVENT
UID:Indybay-18582395
SEQUENCE:18628125
CREATED:20090325T222900Z
DESCRIPTION:How to Bring Solar Energy to Seven Billion People\n\nIn the city of 
 Berkeley, the only way solar energy can be cost-effective is if the local 
 government provides generous subsidies. That's true just about everywhere 
 in the world. But what if there were a photovoltaic technology that was so 
 cheap and so easy to install that even the poorest and most remote villages 
 of the world could gain access to electricity?\n\nJoin Cyrus Wadia of 
 Berkeley Lab at Science at the Theater  for a FREE event\n\nInformation:  
 510-486-7292\n https://www.indybay.org/newsitems/2009/03/25/18582395.php
SUMMARY:Berkeley Lab Science at the Theater: How to Bring Solar Energy to Seven Billion People
LOCATION:Berkeley Repertory Theater, Thrust Stage\n2025 Addison Street\nBerkeley, CA 
 94704-1103\n\n
URL:https://www.indybay.org/newsitems/2009/03/25/18582395.php
DTSTART:20090407T020000Z
DTEND:20090407T033000Z
END:VEVENT
END:VCALENDAR
