BEGIN:VCALENDAR
VERSION:2.0
X-WR-CALNAME:www.indybay.org
PRODID:-//indybay/ical// v1.0//EN
BEGIN:VEVENT
UID:Indybay-18579153
SEQUENCE:18624304
CREATED:20090319T133400Z
DESCRIPTION:Please join BAY-Peace, I Go, Turf Unity and Muslim Action for Peace artists 
 for a performance/action of street theater, spoken word and music to mark 
 the 6th anniversary of the war in Iraq and the violence in our own 
 communities, especially the killing of Oscar Grant by BART police. \n\nThis 
 event is part of a day of actions against the war, to be held at BART 
 stations around the Bay Area, coordinated by United for Peace and 
 Justice.\n https://www.indybay.org/newsitems/2009/03/19/18579153.php
SUMMARY:Fruitvale BART Station: UNIFORM VIOLENCE: Baghdad, CA 94601
LOCATION:Fruitvale BART Station, Oakland
URL:https://www.indybay.org/newsitems/2009/03/19/18579153.php
DTSTART:20090319T230000Z
DTEND:20090320T003000Z
END:VEVENT
END:VCALENDAR
