BEGIN:VCALENDAR
VERSION:2.0
X-WR-CALNAME:www.indybay.org
PRODID:-//indybay/ical// v1.0//EN
BEGIN:VEVENT
UID:Indybay-18579102
SEQUENCE:18624241
CREATED:20090319T071500Z
DESCRIPTION:\n\nToday is A Day of Action Against Corporate Excess and Corporate 
 Greed\nBy Kate Thomas\n\n\n\nAs public anger erupts at over bonuses to AIG 
 executives and almost daily revelations of abuses by Wall Street giants, 
 we're channeling our frustration and anger into action that can make a 
 difference. In just the last two days, thousands of people have signed up 
 to march on major banks and other corporations including Bank of America, 
 Citigroup, JPMorgan Chase and Goldman Sachs. There will be more than 10,000 
 people in the streets at 150 bank locations in 35 states across the country 
 today.\n\n\n\nIn the first national protests since the federal bailouts 
 began, working families and a broad coalition of community groups are 
 sending a message to Congress that we've had enough of corporate greed and 
 lack of accountability. With the CEO of "Bailout King" AIG testifying in 
 front of Congress today about his company's $165 million bailout-funded 
 bonuses, it's more important than ever for us to mobilize against corporate 
 excess.\n\n\n\nIt's time for real change, and we need solutions that will 
 help build a strong, sustainable economy that works for everyone: the 
 Employee Free Choice Act; affordable, quality health care for all; and 
 strong banking reforms. \n\n\n\nThe Truth About EFCA\n\nPlease tell 
 everyone you know about our actions at banks TODAY! \n\n\n\nSee you in the 
 Streets TODAY.\n\n\n\nFor more information on actions happening across the 
 country, please visit www.TakeBackTheEconomy.org.\n\n\n\n\n\nTAGS: AIG, 
 American International Group, Employee Free Choice Act , Free Choice Act, 
 EFCA, Employee Free Choice , Bailout, Labor, SEIU, The Truth About EFCA, 
 labor Union, Corporate Greed, BANK OF AMERICA, Merrill Lynch\n 
 https://www.indybay.org/newsitems/2009/03/19/18579102.php
SUMMARY:Had Enough of Corporate Greed and Irresponsibilty? Join Nationwide Actions TODAY!
LOCATION:Hacienda Heights, CA\nVon's Plaza, 2122 S Hacienda Blvd, Hacienda Heights, 
 CA 5:45-7:30PM Jeffrey Tso\n\nLos Angeles, CA\n941 S, Atlantic Blvd Los 
 Angeles Ca 90022 9AM-2PM Rudy Corral\n\nLos Angeles, CA\nAIG HQ, Century 
 City, 1999 Ave of the Stars, Los Angeles, CA 5PM Bahar Tolou\n\nSacramento, 
 CA\nCitibank, 1114 Alhambra Blvd, Sacramento, CA 12PM Rosalino 
 Pedres\n\nSan Francisco, CA\n555 California Street, San Francisco, CA 12PM 
 Karen Cunningham\n\nSan Francisco, CA\nWells Fargo, 420 Montgomery, San 
 Francisco, CA 94101 12PM Silvia Ruiz\n\nSan Jose, CA\nCisco Systems, 
 Building 10, 300 E Tasman Dr, San Jose, CA 95134 (corner of Tasman and 
 Molgridge) 12PM Silvia Ruiz\n\nSanta Ana, CA\nBank of America, 1418 N. Main 
 St, Santa Ana, CA 11AM-12PM Sylvia Ruiz
URL:https://www.indybay.org/newsitems/2009/03/19/18579102.php
DTSTART:20090319T190000Z
DTEND:20090319T213000Z
END:VEVENT
END:VCALENDAR
