BEGIN:VCALENDAR
VERSION:2.0
X-WR-CALNAME:www.indybay.org
PRODID:-//indybay/ical// v1.0//EN
BEGIN:VEVENT
UID:Indybay-18578486
SEQUENCE:18623515
CREATED:20090317T182100Z
DESCRIPTION:outside LC - discuss future events - bring art - music - films - other art 
 forum \n\ndvd/ipod/vhs players there \n\nall art forum club \n\ngroup on 
 facebook myspace yahoo aol/aim\n\n others web places\n\ndavid_quinley - 
 yahoo \n https://www.indybay.org/newsitems/2009/03/17/18578486.php
SUMMARY:Kentfield COM Luke's Guild Of Arts of Science Tabling-All Art Forums Club
LOCATION:COLLEGE MARIN 
URL:https://www.indybay.org/newsitems/2009/03/17/18578486.php
DTSTART:20090317T183000Z
DTEND:20090317T223000Z
END:VEVENT
END:VCALENDAR
