BEGIN:VCALENDAR
VERSION:2.0
X-WR-CALNAME:www.indybay.org
PRODID:-//indybay/ical// v1.0//EN
BEGIN:VEVENT
UID:Indybay-18578485
SEQUENCE:18623517
CREATED:20090317T181800Z
DESCRIPTION:outside LC - discuss future events for campus greens - green party - 
 progressive causes - other?\n\ngroup on facebook myspace yahoo aol/aim\n\n 
 others web places\n\ndavid_quinley - yahoo \n 
 https://www.indybay.org/newsitems/2009/03/17/18578485.php
SUMMARY:Kentfield(COM)Saint P. Day Green Party Club Tabling
LOCATION:COLLEGE MARIN 
URL:https://www.indybay.org/newsitems/2009/03/17/18578485.php
DTSTART:20090317T183000Z
DTEND:20090317T223000Z
END:VEVENT
END:VCALENDAR
