BEGIN:VCALENDAR
VERSION:2.0
X-WR-CALNAME:www.indybay.org
PRODID:-//indybay/ical// v1.0//EN
BEGIN:VEVENT
UID:Indybay-18576042
SEQUENCE:18620571
CREATED:20090310T221200Z
DESCRIPTION:The Valencia Streetscape Art Advisory meeting will provide community 
 members with an introduction to the Public Art Program’s plans for the 
 Valencia Street Improvement Project, the art selection process, and ways in 
 which the community can get involved. The public is encouraged to share 
 their thoughts, values, and visions for the 16th – 19th Street Corridor. 
 We will also elect two members of the community to serve on the artist 
 selection committee. For a Community Panelist application, check 
 sfartscommission.org/pubartcollection.\n 
 https://www.indybay.org/newsitems/2009/03/10/18576042.php
SUMMARY:Valencia Streetscape Improvement Project Art Advisory Meeting
LOCATION:Mission Police Station\n630 Valencia St., San Francisco, CA, 94110 
URL:https://www.indybay.org/newsitems/2009/03/10/18576042.php
DTSTART:20090320T013000Z
DTEND:20090320T030000Z
END:VEVENT
END:VCALENDAR
