BEGIN:VCALENDAR
VERSION:2.0
X-WR-CALNAME:www.indybay.org
PRODID:-//indybay/ical// v1.0//EN
BEGIN:VEVENT
UID:Indybay-18575101
SEQUENCE:18619353
CREATED:20090305T185400Z
DESCRIPTION:WHAT:           Carnaval San Francisco 2009  - “Roots of Revival: Seeds 
 of Change,”\n\nWHEN & WHERE:  Carnaval San Francisco Festival: 
 Saturday, May 23 through Sunday, May 24  (Memorial Day Weekend), 10:00 
 a.m. – 6:00 p.m.  Harrison Street between 16th and 22nd Street  
  Carnaval Grand Parade: Sunday, May 24, 9:30 a.m. Begins at Bryant & 
 24th Streets, proceeds down Mission to 17th Street\n\nTICKETS:       
   Carnaval San Francisco Festival is FREE                         
  Carnaval Grand Parade is FREE                         Contributions 
 to donation boxes are appreciated\n\nINFO:               Call the 
 Carnaval San Francisco hotline at (415) 651-1811 or, for current updates 
 about Carnaval San Francisco, please visit www.carnavalsf.com.\n\n\n\nThe 
 Carnaval San Francisco Festival runs Saturday and Sunday, May 23 and 24, 
 from 10:00 a.m. – 6:00 p.m. Located on Harrison Street, between 16th and 
 22nd streets, the Carnaval San Francisco Festival will offer food, music, 
 dance, art, crafts and other fun activities and events on several stages 
 for the entire family to enjoy. \n\nThe world famous Carnaval Grand Parade 
 is on Sunday, May 24 starts 9:30 a.m. at the corner of 24th and Bryant 
 streets where it will proceed west to Mission Street.  From there, the 
 parade heads north on Mission down to 17th Street, where it will turn east 
 and flow into the festival area. Carnaval’s Grand Parade is a unique 
 multi-cultural event that celebrates the traditions of many countries and 
 cultures around the world. The floats are spectacular, the music and 
 costumes lavish and varied. Beautifully designed floats depict rich 
 multi-cultural themes, and feature musicians, dancers and other performers 
 that excite and entertain the crowds\n\n 
 https://www.indybay.org/newsitems/2009/03/05/18575101.php
SUMMARY:Carnaval San Francisco 2009
LOCATION:Carnaval San Francisco 2009 will take place May 23 & 24 on Harrison Street 
 between 16th and 22nd streets.  The grand parade takes place on Sunday, May 
 24 and will begin at Bryant and 24th streets proceeding down Mission to 
 17th Street.
URL:https://www.indybay.org/newsitems/2009/03/05/18575101.php
DTSTART:20090524T163000Z
DTEND:20090525T003000Z
END:VEVENT
END:VCALENDAR
