BEGIN:VCALENDAR
VERSION:2.0
X-WR-CALNAME:www.indybay.org
PRODID:-//indybay/ical// v1.0//EN
BEGIN:VEVENT
UID:Indybay-18574216
SEQUENCE:18618327
CREATED:20090301T133800Z
DESCRIPTION:OutLantaCon...the new Atlanta-based geekvent for Gay / Lesbian / Bisexual / 
 Transgendered / Other fans! Our plans are to host two events per year, a 
 full-weekend convention in May and a one-day gaming event in November! We 
 talk about all things queer and geeky in sci-fi/fantasy/horror, ect.\nOur 
 guests this year are - \nAndy Mangels\nComics & Media Author, DVD 
 producer\nStar Trek, Star Wars, Iron Man, Justice League Quarterly 
 \n---------------------------\nJoe Castro\nWriter / Producer / 
 Director\n--------------------------------\nLee Martindale \nFantasy Author 
 \n---------------------\nJoseph D. Carriker, Jr.\nDeveloper / Writer — 
 Vampire: The Requiem \n(White Wolf Publishing) \n 
 https://www.indybay.org/newsitems/2009/03/01/18574216.php
SUMMARY:OutlantaCon 2009
LOCATION:Holiday Inn Atlanta NE\n2001 Clearview Avenue\nAtlanta, GA 
 30340\n770-455-3700
URL:https://www.indybay.org/newsitems/2009/03/01/18574216.php
DTSTART:20090501T210000Z
DTEND:20090502T090000Z
END:VEVENT
END:VCALENDAR
