BEGIN:VCALENDAR
VERSION:2.0
X-WR-CALNAME:www.indybay.org
PRODID:-//indybay/ical// v1.0//EN
BEGIN:VEVENT
UID:Indybay-18573739
SEQUENCE:18617825
CREATED:20090227T190100Z
DESCRIPTION: International Film Festival \nDate: Friday, February 27, 2009\n \nTime: 7 
 p.m. - 9 p.m. \nCalendar: >> All Campus Events << \nContact: Nicole Cruz 
 \nLocation: Olney Hall 96 \n\nComplete Description: \nTre Metri Sopra Il 
 Cielo / Three Meters Above the Sky (2004), Italian\n\nCollege of Marin 
 Modern Languages Department presents the second annual College of Marin 
 International Film Festival, with films featuring foreign languages taught 
 at the college. Tonight's film is FREE and open to the community, and will 
 be shown at 7 p.m. in Olney Hall 96. \n\nThree Meters Above The Sky\nsince 
 none of u asked me what three meters above the sky means i shall tell u :D 
 yes..it means 3 meters above the sky, bt its a movie too...an italian one. 
 ...\npunkie87.blogspot.com/ - 23k - Cached - Similar pages\n\n#\nTre metri 
 sopra il cielo (2004)\nDirected by Luca Lucini. With Riccardo Scamarcio, 
 Katy Louise Saunders. Visit IMDb for Photos, Showtimes, Cast, Crew, 
 Reviews, Plot Summary, Comments, ...\nwww.imdb.com/title/tt0388483/ - 48k - 
 Cached - Similar pages\n#\nTre Metri sopra il cielo (3MsC)\n	\n1 min 47 sec 
 - Aug 21, 2006 -\n\nRated 4.6 out of 5.0\n	\n\n	\n\n	\n\n	\n\n\nTrailer 
 3msc ... msc tre metri sopra il cielo 3msc step babi ho voglia di te 
 ...\nwww.youtube.com/watch?v=Z5WoLnWkc6c\n#\nTre metri sopra il 
 cielo!!!\n	\n4 min 13 sec - May 5, 2006 -\n\nRated 4.6 out of 
 5.0\n	\n\n	\n\n	\n\n	\n\n\nApri gli occhi e inizia a sognare... ... trailer 
 3msc ...\nwww.youtube.com/watch?v=JjZiQvhiIGQ\n#\nShopping results for Tre 
 Metri Sopra Il Cielo\nThree Steps Over Heaven	$21.99 - DaaVeeDee\nHo Voglia 
 Di Te	$28.99 - Amazon.com\nTre Metri Sopra Il Cielo.	$20.56 - A1Books\n#\nI 
 can fly - tre metri sopra il cielo\n	\n4 min 27 sec - Oct 17, 2006 
 -\n\nRated 4.5 out of 5.0\n	\n\n	\n\n	\n\n	\n\n\nThis is the a good music 
 video of an italian movie. Hey!, if you got a little time get in my site 
 http://matisyahu.awardspace.com ... Adrew 
 ...\nvideo.google.com/videoplay?docid=6635737928796127869\n#\nTRE METRI 
 SOPRA IL CIELO by Chry\n	\n6 min - Sep 5, 2006 -\n\nRated 4.6 out of 
 5.0\n	\n\n	\n\n	\n\n	\n\n\n..riassuntO del film 3MsC per Chry.. 
 ...\nvideo.google.com/videoplay?docid=-9166341992009189950\n#\nTre metri 
 sopra il cielo - Wikipedia\n - [ Translate this page ]\nTre metri sopra il 
 cielo è il libro di Federico Moccia uscito nel 1992 in edizione 
 Feltrinelli. Tre metri sopra il cielo è il film ispirato all'omonimo 
 ...\nit.wikipedia.org/wiki/Tre_metri_sopra_il_cielo - 17k - Cached - 
 Similar pages\n#\nAmazon.com: Tre metri sopra il cielo.: Federico Moccia: 
 Books\nTre metri sopra il cielo. 59% buy the item featured on this page: 
 ... Three Steps Over Heaven ( Tre metri sopra il cielo ) [ NON-USA FORMAT 
 ...\nwww.amazon.com/Tre-metri-sopra-il-cielo/dp/8807840391 - 208k - Cached 
 - Similar pages\n#\nTre Metri Sopra Il Cielo - Trailer - Cast - Showtimes - 
 NYTimes.com\nAn overview of Tre Metri Sopra Il Cielo, including cast and 
 credit details, a review summary, and 
 more.\nmovies.nytimes.com/movie/305948/Tre-Metri-Sopra-Il-Cielo/overview - 
 Similar pages\n#\ntre metri sopra il cielo di\n	\n6 min -\n\nRated 5.0 out 
 of 5.0\n	\n\n	\n\n	\n\n	\n\n\nbellissimo 
 video.\nvids.myspace.com/index.cfm?fuseaction=vids.individual&videoID=1804931086\n#\nTrailer 
 Tre metri sopra il cielo\n	\n\nRated 5.0 out of 
 5.0\n	\n\n	\n\n	\n\n	\n\n\nTrailer del film Tre metri sopra il cielo (2004) 
 un film di Luca Lucini con .\nwww.mymovies.it/trailer/?id=34981\n\nNext 
 Film \n\n International Film Festival \nDate: Friday, March 6, 2009\n 
 \nTime: 7 p.m. - 9 p.m. \nCalendar: >> All Campus Events << \nContact: 
 Nicole Cruz \nLocation: Olney Hall 96 \n\nComplete Description: \nMarius 
 and Jeanette (1997), French\n\nCollege of Marin Modern Languages Department 
 presents the second annual College of Marin International Film Festival, 
 with films featuring foreign languages taught at the college. Tonight'sfilm 
 is FREE and open to the community, and will be shown at 7 p.m. in Olney 
 Hall 96. 
 \n\nhttp://marin.hosted.webevent.com/cgi-bin/webevent.cgi\n\nhttp://groups.yahoo.com/group/comcampusgreens/\n\nalso 
 groups on myspace and facebook, greenchange and other online sources \n\n 
 https://www.indybay.org/newsitems/2009/02/27/18573739.php
SUMMARY:Kentfield>2nd Annual COM World Film Fest. Tre Metri Sopra Il Cielo(3 Meters Above the Sky)
LOCATION:OH at college of marin \n\n
URL:https://www.indybay.org/newsitems/2009/02/27/18573739.php
DTSTART:20090228T030000Z
DTEND:20090228T050000Z
END:VEVENT
END:VCALENDAR
