BEGIN:VCALENDAR
VERSION:2.0
X-WR-CALNAME:www.indybay.org
PRODID:-//indybay/ical// v1.0//EN
BEGIN:VEVENT
UID:Indybay-18573733
SEQUENCE:18625404
CREATED:20090227T182800Z
DESCRIPTION:Every third Saturday of the month Pie Ranch hosts its barn dance and 
 community potluck. For those of you who don't know, Co-founder Jered Lawson 
 helped launch Buy Fresh Buy Local way back when in 2002 and now serves on 
 the campaign's Steering Committee. Today he carries on his love for local 
 food and farming by digging in at his farm, shaped like a pie and is 
 co-owned by Jered, his wife Nancy and Karen Heisler. Karen runs Mission Pie 
 in the city and is out on the farm whenever she can be. This farm-to-city 
 connection is educating children about farming and is a premier model in 
 the Bay Area.\n\nCost: Free\n 
 https://www.indybay.org/newsitems/2009/02/27/18573733.php
SUMMARY:Pie Ranch Workday and Barn Dance
LOCATION:Pie Ranch \n2080 Cabrillo Hwy.\nPescadero, CA\n(on the coast between half 
 moon bay and santa cruz)
URL:https://www.indybay.org/newsitems/2009/02/27/18573733.php
DTSTART:20090321T210000Z
DTEND:20090322T020000Z
END:VEVENT
END:VCALENDAR
