BEGIN:VCALENDAR
VERSION:2.0
X-WR-CALNAME:www.indybay.org
PRODID:-//indybay/ical// v1.0//EN
BEGIN:VEVENT
UID:Indybay-18572070
SEQUENCE:18615674
CREATED:20090220T044300Z
DESCRIPTION:The recent fighting between Israelis and Palestinians has brought the issue 
 back onto the international community's agenda and to the top of President 
 Obama's foreign policy to-do list. The Young Professionals International 
 Forum invites you to join them in welcoming Norwegian Consul General Sten 
 Arne Rosnes for a discussion on the Middle East peace process. What led to 
 the collapse of the historic Oslo Accords and what can be done to revive 
 the peace process? Is a two-state solution possible? Consul General Rosnes, 
 Norway's former Representative to the Palestinian Authority, will share his 
 thoughts on the peace process and in light of his country's historic 
 commitment to resolving this dispute will discuss what Norway sees as its 
 role in the process.\n\nThe program will be followed by a reception 
 featuring Scandinavian cuisine.\n 
 https://www.indybay.org/newsitems/2009/02/19/18572070.php
SUMMARY:What Happened to the Middle East Peace Process
LOCATION:World Affairs Council\n312 Sutter St\nSan Francisco, CA 
 94108\n\nhttp://itsyourworld.org
URL:https://www.indybay.org/newsitems/2009/02/19/18572070.php
DTSTART:20090227T023000Z
DTEND:20090227T043000Z
END:VEVENT
END:VCALENDAR
