BEGIN:VCALENDAR
VERSION:2.0
X-WR-CALNAME:www.indybay.org
PRODID:-//indybay/ical// v1.0//EN
BEGIN:VEVENT
UID:Indybay-18571640
SEQUENCE:18615121
CREATED:20090218T051800Z
DESCRIPTION:The fourth inspiring film made about the 21-year old heroine of the White 
 Rose resistance movement in Nazi Germany. This film benefits from the 
 archives released from the East German government, which show the heroism 
 of young people standing up for truth.\n\nPresented by BFUU Social Justice 
 Ctee’s Conscientious Projector Film Series\nWheelchair accessible, 
 donations welcomed for our on-going social justice 
 work\nwww.bfuu.org\n\nPhone contact: 510-495-5132\n\nFor occasional email 
 notices of peace/eco/social justice alerts and related events at BFUU, send 
 any email to:\nbfuusjev-subscribe@lists.riseup.net\n\nFor weekly notices of 
 BFUU services, etc send any email 
 to:\nbfuu-announce-subscribe@yahoogroups.com\n\n 
 https://www.indybay.org/newsitems/2009/02/17/18571640.php
SUMMARY:Screening of “Sophie Scholl: The Final Days”
LOCATION:Berkeley Fellowship of Unitarian Universalists’ Hall\n1924 Cedar (@ 
 Bonita), Berkeley\n
URL:https://www.indybay.org/newsitems/2009/02/17/18571640.php
DTSTART:20090325T020000Z
DTEND:20090325T040000Z
END:VEVENT
END:VCALENDAR
