BEGIN:VCALENDAR
VERSION:2.0
X-WR-CALNAME:www.indybay.org
PRODID:-//indybay/ical// v1.0//EN
BEGIN:VEVENT
UID:Indybay-18571292
SEQUENCE:18614728
CREATED:20090217T173800Z
DESCRIPTION:The second of a three-part dialogue on the Economic and Philosophical 
 Manuscripts by Karl Marx continues Feb. 24, 7-9 p.m., Room 11, Sierra 2 
 Center, 2791 24th St., Sac. Download the text at www.marxistschool.org. The 
 Marxist School of Sacramento is sponsoring this free event for the public. 
 \n\n\n\n\n\n\n\n https://www.indybay.org/newsitems/2009/02/17/18571292.php
SUMMARY:Discussion of Karl Marx’s Economic and Philosophical Manuscripts
LOCATION:Room 11, Sierra 2 Center, 2791 24th St., Sacramento  
URL:https://www.indybay.org/newsitems/2009/02/17/18571292.php
DTSTART:20090225T030000Z
DTEND:20090225T050000Z
END:VEVENT
END:VCALENDAR
