BEGIN:VCALENDAR
VERSION:2.0
X-WR-CALNAME:www.indybay.org
PRODID:-//indybay/ical// v1.0//EN
BEGIN:VEVENT
UID:Indybay-18571227
SEQUENCE:18616511
CREATED:20090217T010000Z
DESCRIPTION:Come to our MMMEG (Monthly Monday Meet, Eat & Greet) today at 6:00pm.\n\nWe 
 encourage those who are especially interested in finding out more about our 
 "30,000 Hot Pink Bikes to Afghanistan: a Woman-to-Woman, Girl-to-Girl 
 Endeavor".\n\nShare excellent Mediterranean food and CodePINK company while 
 brewing revolution! Help Obama CHANGE direction, from Iraq to the U.S.A. 
 NOT Afghanistan!\n\nRSVP 510-540-7007 or email info  bayareacodepink.org\n 
 https://www.indybay.org/newsitems/2009/02/16/18571227.php
SUMMARY:MMMEG: 30,000 Hot PINK Bikes to Afghanistan
LOCATION:Mudrakers Cafe\n2801 Telegraph Ave\nBerkeley\ncorner of Telegraph and 
 Stuart
URL:https://www.indybay.org/newsitems/2009/02/16/18571227.php
DTSTART:20090224T020000Z
DTEND:20090224T020000Z
END:VEVENT
END:VCALENDAR
