BEGIN:VCALENDAR
VERSION:2.0
X-WR-CALNAME:www.indybay.org
PRODID:-//indybay/ical// v1.0//EN
BEGIN:VEVENT
UID:Indybay-18571066
SEQUENCE:18614414
CREATED:20090216T025900Z
DESCRIPTION:27 Days of Change: Practice PeriodMarch 17 to April 12Opening Ceremony: 
 March 17, 6:30 PMREAL change & justice begins with YOU.Designed for 
 activists, allies & agents of social change, Practice Periods are 27 days 
 of daily inner practice in themidst of our urban lives."America's next 
 great social movement must be an inner one. Without inner change, there can 
 be no outer change. Without collective change, no change matters." -- angel 
 Kyodo williams, Executive Director, Center for Transformative ChangeThe 
 6-point, 360 degree personal change program helps you examine your 
 relationship to yourself, your community and the world.  Join the movement 
 to make inner change matter for real social change.  Participate online or 
 in person.  Residential opportunities available.For 27 days, participants 
 commit to the following intentions:Practice Period Intention 
 AgreementGiving: Selfless ServiceI will deepen my engagement with the 
 community and the world through the cultivation of selfless service. My 
 letting go practice is to give this amount of time ______________________ 
 to the following project: __________________________.Ethics: Reducing HarmI 
 will bring my life into greater alignment with my purpose and values 
 through the cultivation of self responsibility andintegrity. My harm 
 reduction practice is to bring needed attention to this one of the Five 
 Warrior Trainings [non-harming,truthfulness, continence, non-stealing, 
 non-attachment] and to reduce my footprint on the earth by 
 ________________________.Patience: Reclaiming RelationshipI will strengthen 
 my mind and heart to find creative responsesto life's challenges through 
 the cultivation of spaciousness and curiosity. My equanimity practice is to 
 re-examine the following difficult relationship or situation and find 
 greater balance:______________________________.Effort: Choosing Life Every 
 DayI will shift the way I show up through the cultivation of consistency 
 and sustained intention. My fearlessness practice isto change the following 
 behavior by applying myself daily: __________________.Meditation: Sitting & 
 YogaI will develop mental stability and self-awareness through 
 thecultivation of sustained attention. My dynamic stillness practice is to 
 increase my sitting meditation/yoga by___________________ including 
 practicing with the communityat these extra 
 times/days:________________________________.Wisdom: Waking UpI will root 
 each and every thought, word and action of these perfect intentions in 
 transcendent understanding though the cultivation of deep insight. My 
 skillfulness practice is to dissolve all ideas who is doing practice, who 
 practice is donefor and practice that is done.Personal ChallengeMy own 
 intention for this Practice Period is:________________.Name: 
 __________________Date: __________________Witnessed:Rev. angel Kyodo 
 williams, MahamitraSpiritual Director and Guiding Teacheron this day of 
 ______ in _________________________________.New Dharma CommunityDownload 
 Intention 
 Agreement:http://transformativechange.org/filemgmt/visit.php?lid=6More 
 information:http://transformativechange.org/staticpages/index.php?page=practiceperiodRegister:Register 
 Online: http://snipurl.com/27daysofchangeregisterTel: Toll free 888 X 
 SOCHANGEEmail:Web Flyer: 
 http:///www.27daysofchange.com________________________________________________Center 
 for Transformative Changetransformative programs & practices for agents of 
 social change 2584 Martin Luther King Jr WayBerkeley, CA 94704(510) 
 549-3733http://transformativechange.org"...changing the WAY change is 
 done..."\n https://www.indybay.org/newsitems/2009/02/15/18571066.php
SUMMARY:27 Days of Change: Practice Period - Designed for Activists, Allies & Agents of Change
LOCATION:Center for Transformative Change\n2584 Martin Luther King Jr Way\nBerkeley, 
 CA 94704
URL:https://www.indybay.org/newsitems/2009/02/15/18571066.php
DTSTART:20090318T013000Z
DTEND:20090318T030000Z
END:VEVENT
END:VCALENDAR
