BEGIN:VCALENDAR
VERSION:2.0
X-WR-CALNAME:www.indybay.org
PRODID:-//indybay/ical// v1.0//EN
BEGIN:VEVENT
UID:Indybay-18570961
SEQUENCE:18614301
CREATED:20090216T001000Z
DESCRIPTION:International Women's Day 2009\nFundraiser for the Women of Gaza\n\nJoin 
 CODEPINK for Cocktails & Movie\nFriday February 27th\n6:00pm, 
 cocktails\n7:00pm, film, Occupation 101\n\nThe Pink House\n1519 Sanchez 
 Street\nSan Francisco, CA\n\nMarch 8, International Women's Day, is a time 
 when people around the globe focus on the needs and contributions of women. 
 This year, on Sunday, March 8, 2009, women and men worldwide will 
 commemorate the day by highlighting the plight of the women of Gaza and 
 sending an international delegation to Gaza to deliver humanitarian 
 aid.\n\nWhat more powerful way to celebrate International Women's Day than 
 working collectively to ease the suffering of the women of 
 Gaza!\n\nDonations accepted at the door. All proceeds to benefit the women 
 of Gaza\nPink wine cash bar\nRSVP: peace@globalexchange.org\n\nCODEPINK 
 Gaza campaign endorsed by United for Peace and Justice SF Bay Area, 
 American Friends Service Committee-SF, Bay Area Labor Committee for Peace 
 and Justice, Quaker Peace and Social Concerns Committee-SF, Unitarian 
 Universalists for Peace-SF, Gray Panters East Bay and 
 more!\n\nwww.codepinkalert.org/gaza\n 
 https://www.indybay.org/newsitems/2009/02/15/18570961.php
SUMMARY:International Women's Day 2009 Fundraiser for the Women of Gaza
LOCATION:The Pink House\n1519 Sanchez Street\nSan Francisco, CA
URL:https://www.indybay.org/newsitems/2009/02/15/18570961.php
DTSTART:20090228T020000Z
DTEND:20090228T050000Z
END:VEVENT
END:VCALENDAR
