BEGIN:VCALENDAR
VERSION:2.0
X-WR-CALNAME:www.indybay.org
PRODID:-//indybay/ical// v1.0//EN
BEGIN:VEVENT
UID:Indybay-18569443
SEQUENCE:18612685
CREATED:20090211T064900Z
DESCRIPTION:February 24th, 25th, and 26th... Palestine Film Festival!\n\nPeople of all 
 perspectives and backgrounds, come together for Middle Eastern food, music, 
 movies, and information about the situation in Israel/Palestine.\nCommittee 
 for Justice in Palestine is sponsoring a three-day film festival, featuring 
 the culture and perspectives of the Palestinian people and the voices of 
 silenced Israelis.\n\nAnyone who is simply curious about Israel/Palestine 
 and wants to learn more, or familiar with the issue and wishes to see new 
 viewpoints is invited to learn, criticize, and socialize!\n\nThis event is 
 totally FREE. All you need is an open mind.\n\n\nhttp://maps.ucsc.edu/\n\n 
 https://www.indybay.org/newsitems/2009/02/10/18569443.php
SUMMARY:Palestine Film Festival
LOCATION:UCSC Classroom Unit 1.\nFrom the main entrance, just take Coolidge Drive 
 straight to the main Quarry (area of Bay Tree Bookstore) or turn left from 
 Coolidge onto Hagar. Classroom Unit 1 is up the hill across from the Bay 
 Tree Bookstore.\nParking is available at Stevenson, Merrill, Cowell, etc. 
URL:https://www.indybay.org/newsitems/2009/02/10/18569443.php
DTSTART:20090227T040000Z
DTEND:20090227T070000Z
END:VEVENT
END:VCALENDAR
