BEGIN:VCALENDAR
VERSION:2.0
X-WR-CALNAME:www.indybay.org
PRODID:-//indybay/ical// v1.0//EN
BEGIN:VEVENT
UID:Indybay-18569400
SEQUENCE:18612364
CREATED:20090210T233300Z
DESCRIPTION:"War! What is it good for? Absolutely nothing!” Or so some think. 
 Discover what Robert Kaplan thinks as we discuss his newest book Warrior 
 Politics arguing “for exploiting military might, stealth, cunning and 
 what he dubs ‘anxious foresight’ in order to lead, fight and bring 
 adversaries to their knees should they challenge the prevailing balance of 
 power” at this FREE event.\n\nCheck-in: 10:30 AM; Program: 11:00 
 AM\n\nFor more information and to register, visit the Council's website, 
 call 415-293-4600, or email ifbookclub@gmail.com. \n 
 https://www.indybay.org/newsitems/2009/02/10/18569400.php
SUMMARY:World Affairs Council Presents IF Book Discussion Group – Warrior Politics
LOCATION:Book Inc., in Opera Plaza\n601 Van Ness Street\nSan Francisco, CA 94102
URL:https://www.indybay.org/newsitems/2009/02/10/18569400.php
DTSTART:20090222T190000Z
DTEND:20090222T200000Z
END:VEVENT
END:VCALENDAR
