BEGIN:VCALENDAR
VERSION:2.0
X-WR-CALNAME:www.indybay.org
PRODID:-//indybay/ical// v1.0//EN
BEGIN:VEVENT
UID:Indybay-18568464
SEQUENCE:18616517
CREATED:20090205T193700Z
DESCRIPTION:The 2009 National Leadership Summit on Eliminating Racial and Ethnic 
 Disparities in Health on February 25-27, 2009 will bring together health 
 professionals and leaders from around the country to develop a national 
 strategy towards health equity.\n 
 https://www.indybay.org/newsitems/2009/02/05/18568464.php
SUMMARY:The 2009 National Leadership Summit on Eliminating Racial and Ethnic Disparities in Health
LOCATION:The Gaylord National\n201 Waterfront Street\nNational Harbor, MD 20745
URL:https://www.indybay.org/newsitems/2009/02/05/18568464.php
DTSTART:20090225T170000Z
DTEND:20090226T050000Z
END:VEVENT
END:VCALENDAR
