BEGIN:VCALENDAR
VERSION:2.0
X-WR-CALNAME:www.indybay.org
PRODID:-//indybay/ical// v1.0//EN
BEGIN:VEVENT
UID:Indybay-18567472
SEQUENCE:18609932
CREATED:20090201T185000Z
DESCRIPTION:Hang with the Revolution Club and discuss topics relating to Revolution 
 newspaper and the works of Bob Avakian. Be part of bringing forward a 
 revolutionary movement. \n\n\n 
 https://www.indybay.org/newsitems/2009/02/01/18567472.php
SUMMARY:Hang With the Revolution Club at Revolution Books
LOCATION:2425 Channing Way(in the Sather Gate Parking Mall off of Telegraph Avenue)  
  Berkeley,CA 94704. Wheelchair\naccessible.Donations accepted. \n\n
URL:https://www.indybay.org/newsitems/2009/02/01/18567472.php
DTSTART:20090210T030000Z
DTEND:20090210T050000Z
END:VEVENT
END:VCALENDAR
