BEGIN:VCALENDAR
VERSION:2.0
X-WR-CALNAME:www.indybay.org
PRODID:-//indybay/ical// v1.0//EN
BEGIN:VEVENT
UID:Indybay-18566904
SEQUENCE:18609152
CREATED:20090130T074700Z
DESCRIPTION:www.democracycenter.org/book\n\nGlobalization on the Ground:  What Bolivia 
 Teaches Us\n\nBook presentation and discusscion.\n\nDignity and Defiance: 
 Stories from Bolivia's Challenge to Globalization\n\nWith the Democracy 
 Center from Cochabamba, Bolivia\n\nMonday, February 2, 3-4pm\nBerkeley 
 School of Law, Goldberg Room\n2778 Bancroft 
 Way\n\nhttp://democracyctr.org/newsletter/2009/01/democracy-center-book-tour-is-coming-to.html\n\n\nFebruary 
 2 — Berkeley, CA\nWhen: 3:00 pm\nWhere: The University of California, 
 Berkeley, School of Law, Goldberg Room. 2778 Bancroft Way @ Piedmont 
 Ave.\n\n\nFor more information:  ggordon@berkeley.edu, rsvp appreciated\n 
 https://www.indybay.org/newsitems/2009/01/29/18566904.php
SUMMARY:Globalization on the Ground: What Bolivia Teaches Us
LOCATION:Monday, February 2, 3-4pm\nBerkeley School of Law, Goldberg Room\n2778 
 Bancroft Way\nBerkeley, CA\n
URL:https://www.indybay.org/newsitems/2009/01/29/18566904.php
DTSTART:20090202T230000Z
DTEND:20090203T000000Z
END:VEVENT
END:VCALENDAR
