BEGIN:VCALENDAR
VERSION:2.0
X-WR-CALNAME:www.indybay.org
PRODID:-//indybay/ical// v1.0//EN
BEGIN:VEVENT
UID:Indybay-18565821
SEQUENCE:18607900
CREATED:20090126T202200Z
DESCRIPTION:Fuck Yeah Fest and the Trash Talk Collective along with 924 Gilman are 
 hosting a benefit show for the family of Oscar Grant. Two Gallants, Trash 
 Talk and special guests are going to play a show for the benefit of Oscar 
 Grant's family. Starts at 3pm. \n 
 https://www.indybay.org/newsitems/2009/01/26/18565821.php
SUMMARY:A Benefit For The Family Of Oscar Grant!
LOCATION:924 Gilman St. in Berkeley, CA
URL:https://www.indybay.org/newsitems/2009/01/26/18565821.php
DTSTART:20090208T230000Z
DTEND:20090209T030000Z
END:VEVENT
END:VCALENDAR
