BEGIN:VCALENDAR
VERSION:2.0
X-WR-CALNAME:www.indybay.org
PRODID:-//indybay/ical// v1.0//EN
BEGIN:VEVENT
UID:Indybay-18565037
SEQUENCE:18606885
CREATED:20090121T215700Z
DESCRIPTION:Join us for the Grand Opening of Youth Spirit Artwork's new youth art 
 studio and retail store in S. Berkeley. View and buy local youth art, free 
 food and drinks provided, music, speakers and tile painting on the topic of 
 health. Children are WELCOME!!\n 
 https://www.indybay.org/newsitems/2009/01/21/18565037.php
SUMMARY:Grand Opening--Youth Spirit Artworks
LOCATION:1769 Alcatraz Avenue, 2 doors West of Adeline Street in S. Berkeley, 4 
 blocks south of Ashby BART down MLK/Adeline Street. \n\n
URL:https://www.indybay.org/newsitems/2009/01/21/18565037.php
DTSTART:20090124T000000Z
DTEND:20090124T040000Z
END:VEVENT
END:VCALENDAR
