BEGIN:VCALENDAR
VERSION:2.0
X-WR-CALNAME:www.indybay.org
PRODID:-//indybay/ical// v1.0//EN
BEGIN:VEVENT
UID:Indybay-18562491
SEQUENCE:18603644
CREATED:20090113T164600Z
DESCRIPTION:Wednesday, January 14, 7:30 PM\nWhat Will It Take for Peace in 
 Israel/Palestine?\nTwo Marin residents will share what they experienced in 
 Israel/Palestine during November and December, 2008. Anna Rogers went on a 
 fact-finding tour with Interfaith Peace-Builders that included visits to 
 Sderot, Ramallah, Jenin, Jerusalem and Bethlehem and extensive discussions 
 with Palestinians and Israelis. Esther Riley participated in peace 
 conferences in Jerusalem and Bethlehem, visited Hebron and spent four 
 nights living with settlers. The talks will be illustrated with photos 
 taken on their respective trips. The program will take place at 7:30 p.m. 
 on at the San Anselmo Inn, 339 San  Anselmo Ave., San Anselmo. Admission is 
 free. For information, visit www.14friendsofpalestine.org or call 
 415-462-2722.\n\nput up by 
 \nhttp://groups.yahoo.com/group/davidquinleymaringpcouncil\n\nhttp://groups.yahoo.com/group/comcampusgreens/\n 
 https://www.indybay.org/newsitems/2009/01/13/18562491.php
SUMMARY:What Will It Take for Peace in Israel/Palestine?-339 San Anselmo Ave., San Anselmo. Free
LOCATION:NEW MEETING LOCATION for this meeting:\n101 Lucas Valley Road, San 
 Rafael\nConference Room\n\nend time a guess
URL:https://www.indybay.org/newsitems/2009/01/13/18562491.php
DTSTART:20090115T033000Z
DTEND:20090115T053000Z
END:VEVENT
END:VCALENDAR
