BEGIN:VCALENDAR
VERSION:2.0
X-WR-CALNAME:www.indybay.org
PRODID:-//indybay/ical// v1.0//EN
BEGIN:VEVENT
UID:Indybay-18562309
SEQUENCE:18603385
CREATED:20090113T005400Z
DESCRIPTION:Come and stand with us to protest the ongoing brutal occupation of 
 Palestine and the ongoing attacks on the people of Gaza.\nWe give 15 
 million dollars each day to Israel and Israel buys weapons such as gunship 
 helicopters and Catepillar bulldozers to use against the Palestinians and 
 now gathering on the border of Gaza.\nPeace will never be achieved in the 
 Middle East unless there is justice for the Palestinian people and an end 
 to the occupation.\nCall, fax or email the Consul General at the Israeli 
 Consulate and let them know what you think of Israel's MASSACRE of the 
 people of the Gaza Strip and the expansion of settlements around 
 Jerusalem.\n1 (415) 844-7501 Fax: (415) 844-7555\nConsul General David Akov 
 concal.sec [at] sanfrancisco.mfa.gov.il\nConsul General Assistant Neta 
 Shacham concal.sec [at] sanfrancisco.mfa.gov.il\n\n 
 https://www.indybay.org/newsitems/2009/01/12/18562309.php
SUMMARY:Berkeley Women in Black weekly vigil
LOCATION:Bancroft and Telegraph
URL:https://www.indybay.org/newsitems/2009/01/12/18562309.php
DTSTART:20090116T200000Z
DTEND:20090116T210000Z
END:VEVENT
END:VCALENDAR
