BEGIN:VCALENDAR
VERSION:2.0
X-WR-CALNAME:www.indybay.org
PRODID:-//indybay/ical// v1.0//EN
BEGIN:VEVENT
UID:Indybay-18560261
SEQUENCE:18601020
CREATED:20090109T175000Z
DESCRIPTION:Friday, January 9 3:30 - 5:00 PM\nMill Valley Vigil\nStop the 
 Israel/Palestine WAR\nPlease Bring Signs Supporting a Truce and an End to 
 the Invasion and\nOccupation of Gaza.\nContact - B.EMILY 388 2821 SJCM and 
 www.MPJC.org and PDA Democracy For America - Marin Chapter (DFA Marin) 
 \ndfamarin.org #\nAbout SJCM\nHome. About SJCM. MPJC Calendar. Issues of 
 Concern ... Marin Peace and Justice Coalition. SJCM Mission. The mission of 
 the Social Justice Center of Marin is: 
 ...\nwww.socialjusticecenterofmarin.org/about.htm - \nwhich is closing its 
 office in san anslelmo \n\nput up by david quinley of marin green party 
 council \n\n\n https://www.indybay.org/newsitems/2009/01/09/18560261.php
SUMMARY:Mill Valley Gaza Vigil>Monthly MPJC Peace Vigil
LOCATION:Corner of E.Blithedale and Camino Alto, Mill Valley
URL:https://www.indybay.org/newsitems/2009/01/09/18560261.php
DTSTART:20090109T233000Z
DTEND:20090110T010000Z
END:VEVENT
END:VCALENDAR
