BEGIN:VCALENDAR
VERSION:2.0
X-WR-CALNAME:www.indybay.org
PRODID:-//indybay/ical// v1.0//EN
BEGIN:VEVENT
UID:Indybay-18559213
SEQUENCE:18599511
CREATED:20090107T034600Z
DESCRIPTION:Flag Burning, Xmas tree holding and music blaring- Fuck the Police\n 
 https://www.indybay.org/newsitems/2009/01/06/18559213.php
SUMMARY:Berkeley Critical Mass
LOCATION:Downtown Berkeley BART 
URL:https://www.indybay.org/newsitems/2009/01/06/18559213.php
DTSTART:20090110T020000Z
DTEND:20090110T043000Z
END:VEVENT
END:VCALENDAR
