BEGIN:VCALENDAR
VERSION:2.0
X-WR-CALNAME:www.indybay.org
PRODID:-//indybay/ical// v1.0//EN
BEGIN:VEVENT
UID:Indybay-18559058
SEQUENCE:18599317
CREATED:20090106T193700Z
DESCRIPTION:Hear the inside scoop on the global politics of climate change \nMike 
 Chrisman, California Secretary for Resources \nLouis Blumberg, Director, CA 
 Forest and Climate Policy, The Nature Conservancy\nAimee Christensen, 
 Founder and CEO, Christensen Global Strategies - Moderator\nIn 2009, the 
 world will try to craft the next comprehensive environmental treaty.  To 
 move forward, there must be multi-lateral consensus on the priorities in 
 the global climate crisis.  Recently, the UN Climate Change Conference 
 convened 11,000 people from nearly 190 nations to focus on these 
 challenges.  How will governments, business and civil society come together 
 to create plans for action and real solutions?  What part will the U.S. 
 play in the next protocol?  This panel of insiders will give you the scoop 
 and update you on what you need to know about the U.N.'s negotiations on 
 climate change.\nLocation: Club Office\nTime: 6 p.m. check-in, 6:30 p.m. 
 program, 7:30 p.m. wine and hors d'oeuvres reception\nCost: $12 members, 
 $20 non-members, $7 students (with valid ID)\n\n 
 https://www.indybay.org/newsitems/2009/01/06/18559058.php
SUMMARY:Climate Countdown: Can The World Cut a Deal?
LOCATION:Commonwealth Club Office\n595 Market Street, 2nd Floor
URL:https://www.indybay.org/newsitems/2009/01/06/18559058.php
DTSTART:20090116T020000Z
DTEND:20090116T040000Z
END:VEVENT
END:VCALENDAR
