BEGIN:VCALENDAR
VERSION:2.0
X-WR-CALNAME:www.indybay.org
PRODID:-//indybay/ical// v1.0//EN
BEGIN:VEVENT
UID:Indybay-18557979
SEQUENCE:18597895
CREATED:20090103T044000Z
DESCRIPTION:Monday, January 19\n9:15 - 10:45 AM\nMarch and Food Drive will start at St 
 John’s Catholic Church at 2814 Mariposa Avenue in downtown Fresno.  The 
 “Mountain of Food” will be collected at the church to feed the hungry.  
 This is a 24 annual Reverend Dr. Martin Luther King Jr. Celebration 2009 
 event.  For more information contact Enrique Reade 940-2159.\n 
 https://www.indybay.org/newsitems/2009/01/02/18557979.php
SUMMARY:Annual MLK March in Fresno
LOCATION:This event will start at St John’s Catholic Church at 2814 Mariposa 
 Avenue in downtown Fresno.
URL:https://www.indybay.org/newsitems/2009/01/02/18557979.php
DTSTART:20090119T171500Z
DTEND:20090119T184500Z
END:VEVENT
END:VCALENDAR
