BEGIN:VCALENDAR
VERSION:2.0
X-WR-CALNAME:www.indybay.org
PRODID:-//indybay/ical// v1.0//EN
BEGIN:VEVENT
UID:Indybay-18557770
SEQUENCE:18597623
CREATED:20090102T062500Z
DESCRIPTION:PLANET EARTH\n\nWe'll be showing two episodes of naturalist David 
 Attenborough's beautiful and overwhelming documentary on special areas of 
 the planet:\n\nI:  Great Plains and\nII: Jungles. \n\nThese films, 
 unsurpassed among nature films, are shown on our big screen.  Everyone who 
 loves nature will be thrilled to see them.\n\nWheelchair accessible around 
 the block at  411  28th  Street\n\nBefore and after the films, everyone’s 
 invited to indulge in our Humanist Vegetarian Organic Refreshments\n\n$5 
 Donations are accepted\n 
 https://www.indybay.org/newsitems/2009/01/01/18557770.php
SUMMARY:Planet Earth
LOCATION:Humanist Hall\n390  27th  Street\nuptown Oakland, between Telegraph and 
 Broadway\nhttp://www.HumanistHall.org 
URL:https://www.indybay.org/newsitems/2009/01/01/18557770.php
DTSTART:20090122T033000Z
DTEND:20090122T053000Z
END:VEVENT
END:VCALENDAR
