BEGIN:VCALENDAR
VERSION:2.0
X-WR-CALNAME:www.indybay.org
PRODID:-//indybay/ical// v1.0//EN
BEGIN:VEVENT
UID:Indybay-18556056
SEQUENCE:18595372
CREATED:20081222T185300Z
DESCRIPTION:Join Elephant Pharmacy in Walnut Creek for a community meeting to gather 
 public input on timely health care issues. The outcome will be submitted to 
 the Obama-Biden Transition Committee, as part of their efforts to bring the 
 voices and health concerns of all Americans to Washington. \n\nDiscussion 
 Topics will include: \n- Availability of affordable health care\n- Access 
 to preventative care\n- Individuals taking an active role in their 
 health\n- Inclusion of complementary and alternative medicine therapies in 
 the health care landscape\n- Local needs and concerns about health care\n 
 https://www.indybay.org/newsitems/2008/12/22/18556056.php
SUMMARY:Health Care Community Discussion at Elephant Pharm Walnut Creek
LOCATION:Walnut Creek Elephant Pharmacy\n1388 S. California Blvd. \nWalnut Creek, 
 CA. 
URL:https://www.indybay.org/newsitems/2008/12/22/18556056.php
DTSTART:20081227T210000Z
DTEND:20081227T223000Z
END:VEVENT
END:VCALENDAR
