BEGIN:VCALENDAR
VERSION:2.0
X-WR-CALNAME:www.indybay.org
PRODID:-//indybay/ical// v1.0//EN
BEGIN:VEVENT
UID:Indybay-18556025
SEQUENCE:18595336
CREATED:20081222T070400Z
DESCRIPTION:Help end recruiting! Come to the MRS at noon. Bring signs: END WAR NOW! 
 Size 10! Leave Our Children Behind! Wear hot pink - or just BE 
 THERE!\n\nThe economy is down, which means recruiting allegedly is up. 
 30,000 more troops will be sent to Afghanistan unless we stand up. England 
 is pulling their troops out of Iraq, but ours are staying for "security" 
 force - unless we stand up.\n\nCome sing, chant, engage with potential 
 soldiers and recruiters alike. March through downtown if weather 
 permits.\n\n\n https://www.indybay.org/newsitems/2008/12/21/18556025.php
SUMMARY:Protest Recruiting at the MRS: Mothers Don't Let Your Children Become Soldiers
LOCATION:MRS (Marine Recruiting Station)\n64 Shattuck Square\nBerkeley\n(on Shattuck 
 Ave just south of University, where Shattuck runs one way north. And 2 
 blocks north of downtown Berkeley BART)
URL:https://www.indybay.org/newsitems/2008/12/21/18556025.php
DTSTART:20081224T200000Z
DTEND:20081224T220000Z
END:VEVENT
END:VCALENDAR
