BEGIN:VCALENDAR
VERSION:2.0
X-WR-CALNAME:www.indybay.org
PRODID:-//indybay/ical// v1.0//EN
BEGIN:VEVENT
UID:Indybay-18555854
SEQUENCE:18595061
CREATED:20081221T000500Z
DESCRIPTION:Potlucks like this one start at 6pm \n\nwww.mpjc.org \n\nput up member and 
 marin green party council member and member of the college of marin student 
 senate 
 \n\nhttp://groups.yahoo.com/group/davidquinleyasivcsenator/\n\nhttp://groups.yahoo.com/group/comcampusgreens/\n\nhttp://groups.yahoo.com/group/COMDisabledStudentsRightsClubandDisabilitiesAccessCommittee/\n\n\n 
 https://www.indybay.org/newsitems/2008/12/20/18555854.php
SUMMARY:Marin Peace and Justice Coalition Winter Solstice Party and Open Mic
LOCATION:MPJC meets at 7 p.m.every Monday night at the\nFirst United Methodist 
 Church,\n9 Ross Valley Dr., San Rafael. Come join us.\nPhone - 415.287.3792 
 or email jimmyjustice@gmail.com\n\n
URL:https://www.indybay.org/newsitems/2008/12/20/18555854.php
DTSTART:20081223T020000Z
DTEND:20081223T050000Z
END:VEVENT
END:VCALENDAR
