BEGIN:VCALENDAR
VERSION:2.0
X-WR-CALNAME:www.indybay.org
PRODID:-//indybay/ical// v1.0//EN
BEGIN:VEVENT
UID:Indybay-18554788
SEQUENCE:18593687
CREATED:20081214T054800Z
DESCRIPTION:“Peace on Earth, Good will to all and Bring the Troops Home Now!”  
 Peace Fresno will hold a peace rally at Shaw and Blackstone.  For more 
 information call (559) 487-2515.\n\n 
 https://www.indybay.org/newsitems/2008/12/13/18554788.php
SUMMARY:Peace on Earth, Good will to all and Bring the Troops Home Now!
LOCATION:Shaw and Blackstone in Fresno
URL:https://www.indybay.org/newsitems/2008/12/13/18554788.php
DTSTART:20081225T193000Z
DTEND:20081225T210000Z
END:VEVENT
END:VCALENDAR
