BEGIN:VCALENDAR
VERSION:2.0
X-WR-CALNAME:www.indybay.org
PRODID:-//indybay/ical// v1.0//EN
BEGIN:VEVENT
UID:Indybay-18554680
SEQUENCE:18593557
CREATED:20081213T200900Z
DESCRIPTION:KPFA Flashpoints and BFUU Social Justice Committee Presents:\n\nNorman 
 Solomon and Larry Everest\n\nDebate\n\nU.S. Foreign Policy and Opposing 
 Wars During the Obama Presidency\n\nNorman Solomon is an author and 
 columnist. His books include War Made Easy: How Presidents and Pundits Keep 
 Spinning Us to Death and Made Love, Got War: Close Encounters with 
 America's Warfare State. His recent articles include "The Silent Winter of 
 Escalation" and "The Ideology of No Ideology," which can be found at 
 commondreams.org and normansolomon.com\n\nLarry Everest is a writer for 
 Revolution newspaper and the author of Oil, Power & Empire: Iraq and the 
 U.S. Global Agenda.  His recent articles include “The U.S. in 
 Afghanistan: A War for Empire—Not a ‘Good War’ Gone Bad” and 
 “Obama’s Foreign Policy: Steering U.S. Imperialism Through Dangerous 
 Waters,” which can be found at revcom.us and larryeverest.com\n\nNorman 
 Solomon and Larry Everest will be guests on KPFA Flashpoints, 94.1FM 
 between 5-6pm, Thursday, Dec 18 \n\nCo-Moderators and Hosts: Bay Area 
 educator Mary Prophet and KPFA Flashpoint’s Dennis Bernstein\n\nThursday, 
 December 18, 7pm,\nBerkeley Fellowship of Unitarian Universalists, \n1924 
 Cedar Street (at Bonita Avenue), Berkeley 510-841-4824\n\n$5-$10, no one 
 turned away for lack of Funds.\n\n\n 
 https://www.indybay.org/newsitems/2008/12/13/18554680.php
SUMMARY:Debate: U.S. Foreign Policy and Opposing Wars During the Obama Presidency
LOCATION:Berkeley Fellowship of Unitarian Universalists, \n1924 Cedar Street (at 
 Bonita Avenue), Berkeley 510-841-4824\n\n
URL:https://www.indybay.org/newsitems/2008/12/13/18554680.php
DTSTART:20081219T030000Z
DTEND:20081219T060000Z
END:VEVENT
END:VCALENDAR
