BEGIN:VCALENDAR
VERSION:2.0
X-WR-CALNAME:www.indybay.org
PRODID:-//indybay/ical// v1.0//EN
BEGIN:VEVENT
UID:Indybay-18554019
SEQUENCE:18592651
CREATED:20081209T000300Z
DESCRIPTION:This is a special meeting of the Local Station Board, with great 
 possibilities for networking about what is happening at the station.\nAnd a 
 holiday party with great food!\n\nThe regular December meeting of the LSB 
 was\ncancelled by the majority Concerned Listeners faction, over the 
 protests of our pro-democracy faction.\nThe Bylaws mandate this meeting as 
 the one at which officers are\nelected for the following year.\nTo try to 
 circumvent this bylaws violation, our pro-democracy representatives 
 scheduled this special meeting.\nThe meeting will be short and should 
 present opportunities for listener discussion.\n\n 
 https://www.indybay.org/newsitems/2008/12/08/18554019.php
SUMMARY:KPFA LSB Special Meeting & holiday potluck!
LOCATION:Humanist Hall, 390 27th Street\nnear Telegraph in Oakland\nAccessible 
 through 28th Street back lot\n   MAP: 
 http://www.mapquest.com/maps?city=Oakland&state=CA&address=390+27th+Street\n 
                     (Between 19th & Macarthur BART stations)\n
URL:https://www.indybay.org/newsitems/2008/12/08/18554019.php
DTSTART:20081212T030000Z
DTEND:20081212T060000Z
END:VEVENT
END:VCALENDAR
