BEGIN:VCALENDAR
VERSION:2.0
X-WR-CALNAME:www.indybay.org
PRODID:-//indybay/ical// v1.0//EN
BEGIN:VEVENT
UID:Indybay-18553716
SEQUENCE:18592225
CREATED:20081205T190600Z
DESCRIPTION:Reporter Frances Dinkelspiel, author of the new book Towers of Gold: How 
 One Jewish Immigrant Named Isaias Hellman Created California, will discuss 
 the role Jews in the Bay Area played in the development of Northern 
 California.\n\nFor more information, email info@thecjm.org or call 
 415.655.7800. \n https://www.indybay.org/newsitems/2008/12/05/18553716.php
SUMMARY:Talk: Creating Northern California
LOCATION:Contemporary Jewish Museum\n736 Mission Street (between Third and Fourth 
 streets)\nSan Francisco, CA 94103\n
URL:https://www.indybay.org/newsitems/2008/12/05/18553716.php
DTSTART:20090130T030000Z
DTEND:20090130T043000Z
END:VEVENT
END:VCALENDAR
