BEGIN:VCALENDAR
VERSION:2.0
X-WR-CALNAME:www.indybay.org
PRODID:-//indybay/ical// v1.0//EN
BEGIN:VEVENT
UID:Indybay-18553500
SEQUENCE:18591951
CREATED:20081203T185500Z
DESCRIPTION:Friday, Dec 26\n\n7PM only \nAdmission: $5\n\nThe Trial (1963)\n\nLocation: 
 600 4th St, West Sacramento (that's the corner of 4th & F in West Sac - 
 parking lot is right off of F Street between 4th & 5th).\n\nOrson Welles' 
 classic and renowned adaptation of Franz Kafka's novel!\n\nAnthony Perkins 
 stars as Josef K., a seemingly innocent young man who is arrested one 
 morning for an unexplained crime by men who refuse to identify themselves. 
 K., asserting his innocence, sets off on a bizarre series of confrontations 
 with shady government agents, overwhelming faceless courtrooms, and pompous 
 advocates who talk in riddles. His nightmare continues through narrow, dark 
 passageways and colorless rooms where he witnesses various forms of torture 
 and interrogation; some of what he comes upon has echoes of the Nazis and 
 the Holocaust. And nearly everywhere he goes he stumbles over wads of 
 paperwork (the kind that ultimately swallowed up Tuttle in Terry Gilliam's 
 "Brazil, a fascinating descendant of "The Trial"). Perkins is wonderfully 
 paranoid as he wanders aimlessly through the labyrinthine sets, which 
 always seem to be closing in on him.  \n 
 https://www.indybay.org/newsitems/2008/12/03/18553500.php
SUMMARY:Film Screening: The Trial
LOCATION:Location: 600 4th St, West Sacramento (that's the corner of 4th & F in West 
 Sac - parking lot is right off of F Street between 4th & 5th).
URL:https://www.indybay.org/newsitems/2008/12/03/18553500.php
DTSTART:20081227T030000Z
DTEND:20081227T050000Z
END:VEVENT
END:VCALENDAR
