BEGIN:VCALENDAR
VERSION:2.0
X-WR-CALNAME:www.indybay.org
PRODID:-//indybay/ical// v1.0//EN
BEGIN:VEVENT
UID:Indybay-18553286
SEQUENCE:18591704
CREATED:20081201T171100Z
DESCRIPTION:Tuesday, December 2, 3 or 7 PM from www.mpjc.org\nGeneral Plan 2020\nYou 
 are invited to help with the five-year review of San Rafael’s long-range 
 plan.\nAfternoon meeting: 3:00 to 5:00 p.m., or\nEvening meeting: 7:00 to 
 9:00 p.m.\nCome help answer:\n· What have been successes and challenges in 
 implementing the City’s plan, and its housing policies and programs?\n· 
 What improvements can be made to San Rafael General Plan 2020 policies and 
 programs?\n· What more can we do to achieve San Rafael’s long-range 
 goals for important topics such as housing, economic vitality, circulation, 
 and safety? 
 \n\nhttp://www.cityofsanrafael.org/Government/City_Clerk/City_Council_Redevelopment_Agency_Agendas.htm\n\nput 
 up by marin green party council member\n 
 https://www.indybay.org/newsitems/2008/12/01/18553286.php
SUMMARY:Day 1:San Rafael: Five-Year Review
LOCATION:City of San Rafael Council Chambers\n1400 Fifth Avenue, San Rafael
URL:https://www.indybay.org/newsitems/2008/12/01/18553286.php
DTSTART:20081202T230000Z
DTEND:20081203T050000Z
END:VEVENT
END:VCALENDAR
