BEGIN:VCALENDAR
VERSION:2.0
X-WR-CALNAME:www.indybay.org
PRODID:-//indybay/ical// v1.0//EN
BEGIN:VEVENT
UID:Indybay-18553077
SEQUENCE:18591415
CREATED:20081129T045300Z
DESCRIPTION:Conflict and Health in Iraq: Ethical Obligations to the People of 
 Iraq\n\nThe presentation will touch on the recent history of Iraq from the 
 point of view of public health and the consequences of the internal and 
 external conflicts that have produced a man-made health disaster of 
 enormous magnitude. Dr. Al-Delaimy will present his personal experiences 
 and literature documenting the events.\n\n\nDr. Al-Delaimy completed his 
 medical and public health training in Baghdad, where he practiced as a 
 physician.  He has a PhD in Epidemiology from Otaqo University in New 
 Zealand. He worked with the World Health Organization and Harvard 
 University prior to his current position as an Associate Professor at the 
 UCSD School of Medicine. Involved in public health advocacy for the last 10 
 years, Dr. Al-Delaimy is considered an international expert on the topic of 
 the Iraqi healthcare system.\n 
 https://www.indybay.org/newsitems/2008/11/28/18553077.php
SUMMARY:Conflict and Health in Iraq: Ethical Obligations to the People of Iraq
LOCATION:UCSF Medical School\n521 Parnassus, main UCSF campus\nRoom HSW-303\n
URL:https://www.indybay.org/newsitems/2008/11/28/18553077.php
DTSTART:20081202T200000Z
DTEND:20081202T210000Z
END:VEVENT
END:VCALENDAR
