BEGIN:VCALENDAR
VERSION:2.0
X-WR-CALNAME:www.indybay.org
PRODID:-//indybay/ical// v1.0//EN
BEGIN:VEVENT
UID:Indybay-18552344
SEQUENCE:18590500
CREATED:20081120T200800Z
DESCRIPTION:Just in time for Holiday gift giving…\n3 6 6 1 S T U D I O S 2 N D A N N 
 U A L\nHoliday Art and Gift Show\n\nDecember 6 & 7, Saturday & Sunday, 11 
 – 5pm\n3661 Sacramento Street (at Spruce) San Francisco\n \nWell-priced 
 Jewelry, Photography, Collage, Fine Art Cards, Small Ceramic Sculptures, 
 and Original One-of-a-Kind Works of Art. \n\nOur second annual show 
 features fabulous affordable unique gifts by four women San Francisco 
 artists and designers.\n\nJulie Berlin: www.julieberlin.org\nM. Kathleen 
 Kelly: www.photokatz.com\nSaara Reidsema: www.saarareidsema.com\nSandy 
 John: www.2practical.com\n\nBe a trendsetter! Announce your style with 
 unique gifts.\n\n\n 
 https://www.indybay.org/newsitems/2008/11/20/18552344.php
SUMMARY:Holiday Art and Gift Sale
LOCATION:3661 Studios\n3661 Sacramento Street (at Spruce)\nSan Francisco, CA  
 94118\n\n
URL:https://www.indybay.org/newsitems/2008/11/20/18552344.php
DTSTART:20081206T190000Z
DTEND:20081207T000000Z
END:VEVENT
END:VCALENDAR
