BEGIN:VCALENDAR
VERSION:2.0
X-WR-CALNAME:www.indybay.org
PRODID:-//indybay/ical// v1.0//EN
BEGIN:VEVENT
UID:Indybay-18549730
SEQUENCE:18587588
CREATED:20081109T010800Z
DESCRIPTION:You know what they said about us. Now, after Prop 8 has passed, they should 
 meet the people whose rights they've taken away.\n\nBring your signs, your 
 flags, and wear your Sunday best. Be respectful. Leave your anger at home. 
 Win hearts, minds, and votes. Overcome hate with love.\n\nAnd don't forget: 
 Not all Mormons voted against us. Some Mormons are gay or 
 lesbian.\n\nSupport those who supported us. And change the minds of those 
 who didn't.\n https://www.indybay.org/newsitems/2008/11/08/18549730.php
SUMMARY:Oakland Prop 8 Protest: Let's Meet the Mormons
LOCATION:Oakland Mormon Temple\n4766 Lincoln Ave.\nOakland, CA 94602
URL:https://www.indybay.org/newsitems/2008/11/08/18549730.php
DTSTART:20081109T200000Z
DTEND:20081109T210000Z
END:VEVENT
END:VCALENDAR
