BEGIN:VCALENDAR
VERSION:2.0
X-WR-CALNAME:www.indybay.org
PRODID:-//indybay/ical// v1.0//EN
BEGIN:VEVENT
UID:Indybay-18549684
SEQUENCE:18587584
CREATED:20081108T221200Z
DESCRIPTION:Standing on the Side of Love: Candlelight Vigil\n\nJoin a prayerful, 
 peaceful candlelight vigil in solidarity with the LGBT community.  
 Families, students, allies, people of faith, of conscience, of compassion - 
 everyone is encouraged to stand on the side of love and the freedom to 
 marry.  \n\nThere is no proposition that can be passed, no law that can be 
 written, and no constitutional amendment that can be added which can ever 
 truly deny the love and commitment between two people.  We cannot be silent 
 when the rights of anyone are eliminated.  Now is the time to stand on the 
 side of love.\n\nGather at the location nearest you on Monday, Nov. 10, 
 between 5-6:30pm. Check website below for the most up-to-date list of 
 venues and links to maps.\n\nConfirmed Gathering Places:\n    * San Jose at 
 S. Bascom and Hamilton Ave. (just west of 17; south east corner)\n    * San 
 Jose downtown at the Metropolitan Community Church, 65 South 7th Street\n   
  * Palo Alto at the corner of El Camino Real & Embarcadero\n    * San Mateo 
 corner of El Camino Real and Fifth Avenue\n    * Belmont corner of El 
 Camino Real and Ralston Avenue (on CalTrain side of street)\n    * Redwood 
 City corner of El Camino and Jefferson Ave.\n\nBring your own candles, if 
 possible.  Rainbow flags and banners from communities of faith are welcome. 
 \n\nSpread the word every way possible.\n\n 
 https://www.indybay.org/newsitems/2008/11/08/18549684.php
SUMMARY:San Jose: Solidarity Vigil to Protest Prop. 8
LOCATION:San Jose at S. Bascom and Hamilton Ave. (just west of 17; south east 
 corner) AND\nSan Jose downtown at the Metropolitan Community Church, 65 
 South 7th Street 
URL:https://www.indybay.org/newsitems/2008/11/08/18549684.php
DTSTART:20081111T010000Z
DTEND:20081111T023000Z
END:VEVENT
END:VCALENDAR
